BEGIN:VCALENDAR
PRODID:-//Microsoft Corporation//Outlook 10.0 MIMEDIR//EN
VERSION:2.0
METHOD:REQUEST
BEGIN:VTIMEZONE
TZID:America/New_York
TZURL:http://tzurl.org/zoneinfo-outlook/America/New_York
X-LIC-LOCATION:America/New_York
BEGIN:DAYLIGHT
TZOFFSETFROM:-0500
TZOFFSETTO:-0400
TZNAME:EDT
DTSTART:19700308T020000
RRULE:FREQ=YEARLY;BYMONTH=3;BYDAY=2SU
END:DAYLIGHT
BEGIN:STANDARD
TZOFFSETFROM:-0400
TZOFFSETTO:-0500
TZNAME:EST
DTSTART:19701101T020000
RRULE:FREQ=YEARLY;BYMONTH=11;BYDAY=1SU
END:STANDARD
END:VTIMEZONE
BEGIN:VEVENT
DTSTAMP:20210119T200116Z
ATTENDEE;CN="bgp-autoconf@ietf.org";ROLE=REQ-PARTICIPANT;RSVP=TRUE:MAILTO:bgp-autoconf@ietf.org
ORGANIZER;CN="IDR Working Group":MAILTO:idr-chairs@tools.ietf.org
DTSTART;TZID=America/New_York:20210126T100000
DTEND;TZID=America/New_York:20210126T110000
LOCATION:https://ietf.webex.com/ietf/j.php?MTID=ma20898513893ecaf48605be616d6fb7b
TRANSP:OPAQUE
SEQUENCE:1611086476
UID:b64357ab-2d24-43e7-85e5-0b72a06d4b29
DESCRIPTION:\n\n\n\n\nJOIN WEBEX MEETING\nhttps://ietf.webex.com/ietf/j.php?MTID=ma20898513893ecaf48605be616d6fb7b\nMeeting number (access code): 178 182 7558\n\nMeeting password: bestwishesjohn\n\n\n\nTAP TO JOIN FROM A MOBILE DEVICE (ATTENDEES ONLY)\n+1-650-479-3208,,1781827558## tel:%2B1-650-479-3208,,*01*1781827558%23%23*01* Call-in toll number (US/Canada)\n\n\nJOIN BY PHONE\n1-650-479-3208 Call-in toll number (US/Canada)\n\nGlobal call-in numbers\nhttps://ietf.webex.com/ietf/globalcallin.php?MTID=mcb0fd8e13ea6640d5dd0af752a04f61b\n\n\nJOIN FROM A VIDEO SYSTEM OR APPLICATION\nDial sip:1781827558@ietf.webex.com\nYou can also dial 173.243.2.68 and enter your meeting number.\n\n\nJoin using Microsoft Lync or Microsoft Skype for Business\nDial sip:1781827558.ietf@lync.webex.com\n\n\n\n\n\nCan't join the meeting?\nhttps://collaborationhelp.cisco.com/article/WBX000029055\n\n\nIMPORTANT NOTICE: Please note that this Webex service allows audio and other information sent during the session to be recorded, which may be discoverable in a legal matter. By joining this session, you automatically consent to such recordings. If you do not consent to being recorded, discuss your concerns with the host or do not join the session.\n
X-ALT-DESC;FMTTYPE=text/html:<style type="text/css">\ntable {\n	border-collapse: separate; width =100%;	border: 0;	border-spacing: 0;}\n\ntr {\n	line-height: 18px;}\n\na, td {\n	font-size: 14px;	font-family: Arial;	color: #333;	word-wrap: break-word;	word-break: normal;	padding: 0;}\n\n.title {\n	font-size: 28px;}\n\n.image {\n	width: auto;	max-width: auto;}\n\n.footer {\n	width: 604px;}\n\n.main {\n\n}@media screen and (max-device-width: 800px) {\n	.title {\n		font-size: 22px !important;	}\n	.image {\n		width: auto !important;		max-width: 100% !important;	}\n	.footer {\n		width: 100% !important;		max-width: 604px !important\n	}\n	.main {\n		width: 100% !important;		max-width: 604px !important\n	}\n}\n</style>\n\n<table bgcolor="#FFFFFF" style="padding: 0; margin: 0; border: 0; width: 100%;" align="left">\n	<tr style="height: 28px"><td>&nbsp;</td></tr>\n	<tr>\n		<td align="left" style="padding: 0 20px; margin: 0">\n			<!--<table bgcolor="#FFFFFF" style="border: 0px; width: 100%; padding-left: 50px; padding-right: 50px;" align="left" class="main">\n				<tr>\n					<td align="center" valign="top" >&nbsp;					</td>\n				</tr>\n			</table>-->\n\n\n\n\n\n			<table>\n				<tr>\n					<td>\n						<FONT SIZE="4" COLOR="#666666" FACE="arial">When it's time, join the Webex meeting here.</FONT>\n					</td>\n				</tr>\n		</table>\n        <table>\n        	<tr style="line-height: 20px;"><td style="height:20px">&nbsp;</td></tr>\n			<tr>\n				<td style="width:auto!important; ">\n					<table border="0" cellpadding="0" cellspacing="0" style="width:auto;width:auto!important;background-color:#00823B; border:0px solid #00823B; border-radius:25px; min-width:160px!important;">\n						<tr>\n							<td align="center" style="padding:10px 36px;"><a href="https://ietf.webex.com/ietf/j.php?MTID=ma20898513893ecaf48605be616d6fb7b" style="color:#FFFFFF; font-size:20px; text-decoration:none;">Join meeting</a></td>\n						</tr>\n					</table>\n				</td>\n			</tr>\n		</table>\n		<table>\n			<tr style="line-height: 20px;"><td style="height:20px">&nbsp;</td></tr>\n			<tr>\n				<td>\n						<FONT SIZE="3" COLOR="#666666" FACE="arial">More ways to join:</FONT>\n				</td>\n        	</tr>\n            <tr style="line-height: 10px;"><td style="height: 10px;">&nbsp;</td></tr>\n        	<tr>\n				<td>\n						<FONT SIZE="3" COLOR="#666666" FACE="arial">Join from the meeting link</FONT>\n				</td>\n        	</tr>\n        	<tr>\n				<td>\n						<FONT SIZE="2" COLOR="#666666" FACE="arial"><a href='https://ietf.webex.com/ietf/j.php?MTID=ma20898513893ecaf48605be616d6fb7b' style='color:#005E7D;  text-decoration:none; font-family: Arial;font-size: 14px;line-height: 24px;'>https://ietf.webex.com/ietf/j.php?MTID=ma20898513893ecaf48605be616d6fb7b</a></FONT>\n				</td>\n        	</tr>\n        	<tr style="line-height: 20px;"><td style="height:20px">&nbsp;</td></tr>\n			<tr>\n				<td>\n						<FONT SIZE="3" COLOR="#666666" FACE="arial">Join by meeting number</FONT>\n				</td>\n        	</tr>\n			<tr>\n				<td>\n					<FONT SIZE="2" COLOR="#666666" FACE="arial">Meeting number (access code): 178 182 7558</FONT>\n				</td>\n			</tr>\n		</table>\n		<table><tr><td><FONT SIZE="2" COLOR="#666666" FACE="arial">Meeting password:</FONT></td><td><FONT SIZE="2"  COLOR="#666666" FACE="arial">bestwishesjohn</FONT></td></tr></table>\n\n <FONT size="2" COLOR="#FF0000" style="font-family: Arial;"></FONT>\n\n&nbsp; <BR><FONT SIZE="4" FACE="ARIAL"><FONT SIZE="3" COLOR="#666666" FACE="arial">Tap to join from a mobile device (attendees only)</FONT> &nbsp; <BR><FONT SIZE="2" COLOR="#666666" FACE="arial"><a href='tel:%2B1-650-479-3208,,*01*1781827558%23%23*01*' style='color:#00AFF9;  text-decoration:none; font-family: Arial;font-size: 14px;line-height: 24px;'>+1-650-479-3208,,1781827558##</a> Call-in toll number (US/Canada)</FONT>&nbsp; <BR><BR><FONT SIZE="4" FACE="ARIAL"><FONT SIZE="3" COLOR="#666666" FACE="arial">Join by phone</FONT> &nbsp; <BR><FONT SIZE="2" COLOR="#666666" FACE="arial">1-650-479-3208 Call-in toll number (US/Canada)</FONT> &nbsp; <BR><FONT SIZE="2" COLOR="#666666" FACE="arial"><a href="https://ietf.webex.com/ietf/globalcallin.php?MTID=mcb0fd8e13ea6640d5dd0af752a04f61b" style="text-decoration:none;font-size:14px;color:#00AFF9">Global call-in numbers</a></FONT>&nbsp; <BR><BR><BR>\n\n<table><tr style="line-height: 20px;"><td style="height:20px">&nbsp;</td></tr></table>\n\n<FONT SIZE="4" FACE="ARIAL"><FONT SIZE="3" COLOR="#666666" FACE="arial">Join from a video system or application</FONT><BR><FONT SIZE="2" COLOR="#666666" FACE="arial">Dial</FONT> <a href="sip:1781827558@ietf.webex.com"><FONT SIZE="2" COLOR="#00AFF9" FACE="arial">1781827558@ietf.webex.com</FONT></a>&nbsp; <BR><FONT SIZE="2" COLOR="#666666" FACE="arial">You can also dial 173.243.2.68 and enter your meeting number.</FONT> &nbsp; <BR></FONT>&nbsp; <BR>\n\n<table cellpadding="0" cellspacing="0"><tr><td  style="color: #000000; font-family: Arial;font-size: 12px; font-weight: bold; line-height: 24px;"><b>Join using Microsoft Lync or Microsoft Skype for Business</b></td></tr><tr style="margin:0px"><td style="color: #333333; font-family: Arial; font-size: 14px; line-height: 24px;">Dial <a href=" sip:1781827558.ietf@lync.webex.com"   style="text-decoration:none;color:#00AFF9">1781827558.ietf@lync.webex.com</a></td></tr></table>\n\n	<table><tr style="line-height: 20px"><td style="height:20px">&nbsp;</td></tr></table>\n	\n\n			<table style="width: 100%;" align="left" class="main">\n                <tr style="height: 20px"><td>&nbsp;</td></tr>\n				<tr>\n					<td style="height: 24px; color: #000000; font-family:Arial; font-size: 14px; line-height: 24px;">Need help? Go to <a href="https://help.webex.com" style="color:#005E7D; text-decoration:none;">https://help.webex.com</a>\n					</td>\n				</tr>\n                <tr style="height: 44px"><td>&nbsp;</td></tr>\n			</table>\n		</td>\n	</tr>\n</table>\n
SUMMARY:BGP Autoconf
PRIORITY:5
CLASS:PUBLIC
RRULE:FREQ=WEEKLY;WKST=SU;COUNT=10;INTERVAL=1;BYDAY=TU
BEGIN:VALARM
TRIGGER:-PT5M
ACTION:DISPLAY
DESCRIPTION:Reminder
END:VALARM
END:VEVENT
END:VCALENDAR
