BEGIN:VCALENDAR
METHOD:REQUEST
PRODID:Microsoft CDO for Microsoft Exchange
VERSION:2.0
BEGIN:VEVENT
DTSTAMP:20090127T084537Z
DTSTART:20090127T170000Z
SUMMARY:Meeting: Bryant {Meeting ID: 310310314159}
UID:040000008200E00074C5B7101A82E0080000000010F9419F5B80C901000000000000000
 01000000075E74E7D0004154DA0081D2B241D62C5
ATTENDEE;ROLE=REQ-PARTICIPANT;PARTSTAT=NEEDS-ACTION;RSVP=TRUE;CN="Stewart B
 ryant (stbryant)":MAILTO:stbryant@cisco.com
ORGANIZER;CN="mp-ams-c1-olk.svc":MAILTO:mp-ams-c1-olk.svc@cisco.com
LOCATION:
DTEND:20090127T180000Z
DESCRIPTION:Stewart Bryant has invited you to a Cisco Unified MeetingPlace 
 Conference\N\NDate/Time:               January 27\, 2009 at 05:00PM Europe
 /London\NLength:                  60\NFrequency:               once\NMeeti
 ng ID:              310310314159\NMeeting Password:        \N\NGlobal Acce
 ss Numbers:\Nhttp://cisco.com/en/US/about/doing_business/conferencing/inde
 x.html\N\N    San Jose\, CA: +1.408.525.6800    RTP:              +1.919.3
 92.3330      \N    US/Canada:  +1.866.432.9903    United Kingdom:   +44.20
 .8824.0117\N    India:      +91.80.4103.3979   Germany:          +49.619.6
 773.9002\N    Japan:      +81.3.5763.9394    China:            +86.10.8515
 .5666\N\NTO ATTEND A WEB AND VOICE CONFERENCE:\N\NCISCO INTRANET ATTENDEES
 \NJoin the Web & Voice Conference*\N1. Go to http://meetingplaceinternal.c
 isco.com/join.asp?310310314159\N2. Enter your CEC User ID & Password then 
 click OK\N- Accept any security warnings you receive and wait for the Meet
 ing Room to initialize**\N3. Click on CONNECT from the Meeting Room to joi
 n the Voice Conference portion of the meeting\N\NEXTERNAL ATTENDEES - Outs
 ide the Cisco Intranet\NJoin the Web & Voice Conference*\N1. Go to http://
 meetingplace.cisco.com/join.asp?310310314159\N2. Fill in the My Name is fi
 eld then click Attend Meeting\N- If you have a CEC User ID\, click on the 
 Cisco icon\N- Accept any security warnings you receive and wait for the Me
 eting Room to initialize**\N3. Click on CONNECT from the Meeting Room to j
 oin the Voice Conference portion of the meeting\N- Note: Guest users will 
 see a link to the Global Access Numbers.\N\N*If this is your first time at
 tending a Web Conference\, disable any pop-up blockers and visit http://me
 etingplace.cisco.com/mpweb/scripts/browsertestupper.asp to test your web b
 rowser for compatibility with the Web Conference.\N**The meeting will not 
 start until the Host of the meeting arrives - if you'd like to start the m
 eeting with your Profile\, please review the steps below to attend a Voice
  Only Conference as a Guest then follow the system prompts.\N\NTO ATTEND A
  RESERVATIONLESS VOICE ONLY CONFERENCE\N\NAS THE HOST\N1. Dial into Cisco 
 Unified MeetingPlace (view the Access Numbers and link above)\N2. Press 1 
 to attend the meeting\N3. Enter the Meeting ID 310310314159 followed by # 
 key\N4. Follow the prompts to record your name and enter the waiting room\
 N5. Press 2 then enter your Profile Password to initiate your meeting\N\NA
 S A GUEST\N1. Follow steps 1-4 above to access the meeting\N2. You will be
  placed in a waiting room until the Host initiates the meeting\N\NSUPPORT\
 NInformation about this Conference: Contact Stewart Bryant\, 442088248828\
 NCisco IT Support Center: Attend the Voice Conference and then press #0 on
  your phone keypad\N\N
SEQUENCE:0
PRIORITY:5
CLASS:
CREATED:20090127T084537Z
LAST-MODIFIED:20090127T084538Z
STATUS:CONFIRMED
TRANSP:OPAQUE
X-MICROSOFT-CDO-BUSYSTATUS:BUSY
X-MICROSOFT-CDO-INSTTYPE:0
X-MICROSOFT-CDO-INTENDEDSTATUS:BUSY
X-MICROSOFT-CDO-ALLDAYEVENT:FALSE
X-MICROSOFT-CDO-IMPORTANCE:1
X-MICROSOFT-CDO-OWNERAPPTID:-1
X-MICROSOFT-CDO-ATTENDEE-CRITICAL-CHANGE:20090127T084537Z
X-MICROSOFT-CDO-OWNER-CRITICAL-CHANGE:20090127T084537Z
BEGIN:VALARM
ACTION:DISPLAY
DESCRIPTION:REMINDER
TRIGGER;RELATED=START:-PT00H15M00S
END:VALARM
END:VEVENT
END:VCALENDAR
