BEGIN:VCALENDAR
VERSION:2.0
PRODID:-//Edit by hand for better ical
CALSCALE:GREGORIAN
BEGIN:VEVENT
DTSTART:20210930T150000Z
DTEND:20210930T163000Z
ATTENDEE;CN="Open Meeting"
CLASS:PUBLIC
CREATED:20210921T104546Z
DTSTAMP:20200921T104546Z
LAST-MODIFIED:20210921T104546Z
ORGANIZER;CN="Adrian Farrel":mailto:adrian@olddog.co.uk
PRIORITY:5
SUMMARY:Evolving Routing Security in the Internet

URL:https://htf-paris.my.webex.com/htf-paris.my-en/j.php?MTID=mc8bb1a7bcda855d14060678f65272117

DESCRIPTION:Open meeting to discuss new work to secure routing in the Internet
    \n
    \nJoin by YouTube Live Stream or on Webex
    \n
    \nYouTube : https://youtu.be/V9CZC42BTDc
    \n
    \nJoin from the Webex meeting link:
    \n    https://htf-paris.my.webex.com/htf-paris.my-en/j.php?MTID=mc8bb1a7bcda855d14060678f65272117
    \n
    \nJoin by meeting number
    \n    Meeting number (access code): 2378 329 4413
    \n    Meeting password: eAkhkCWH368 (32545294 from phones and video systems)
    \n
    \nTap to join from a mobile device (attendees only)
    \n    +1-650-215-5226,,23783294413#32545294# United States Toll
    \n    Some mobile devices may ask attendees to enter a numeric password.
    \n
    \nJoin by phone
    \n    +1-650-215-5226 United States Toll
    \n
    \nJoin by video system, application or Skype for business
    \n    Dial 23783294413@webex.com
    \n    You can also dial 62.109.219.4 and enter your meeting number.

LOCATION:Webex
END:VEVENT
END:VCALENDAR