BEGIN:VCALENDAR
PRODID:-//Microsoft Corporation//Outlook 10.0 MIMEDIR//EN
VERSION:2.0
METHOD:REQUEST
BEGIN:VEVENT
ATTENDEE;CN="IETF Tools Team":MAILTO:tools-discuss@ietf.org
ORGANIZER;CN="Cisco Webex":MAILTO:messenger@webex.com
DTSTART:20200311T200000Z
DTEND:20200311T210000Z
LOCATION:https://ietf.webex.com/ietf/j.php?MTID=m00937c87933d32f8f66e20a62dd8e0a1
TRANSP:OPAQUE
SEQUENCE:1582818075
UID:74196a3d-1b5a-4065-a2a1-942d4f8157bf
DTSTAMP:20200311T200000Z
DESCRIPTION:\n\nJOIN WEBEX MEETING\nhttps://ietf.webex.com/ietf/j.php?MTID=m00937c87933d32f8f66e20a62dd8e0a1\nMeeting number (access code): 643 457 472\n\nHost key: 889085\n\nMeeting password: 2tgKWY8VUU8\n\n\n\nJOIN BY PHONE\n1-650-479-3208 Call-in toll number (US/Canada) \nTap here to call (mobile phones only, hosts not supported): tel:%2B1-650-479-3208,,*01*643457472%23%23*01*\n\n\nJOIN FROM A VIDEO SYSTEM OR APPLICATION\nDial sip:643457472@ietf.webex.com\nYou can also dial 173.243.2.68 and enter your meeting number.\n\n\nJoin using Microsoft Lync or Microsoft Skype for Business\nDial sip:643457472.ietf@lync.webex.com\n\n\n\nCan't join the meeting? Contact support here:\nhttps://ietf.webex.com/ietf/mc\n\n\nIMPORTANT NOTICE: Please note that this Webex service allows audio and other information sent during the session to be recorded, which may be discoverable in a legal matter. You should inform all meeting attendees prior to recording if you intend to record the meeting.\n
X-ALT-DESC;FMTTYPE=text/html:<style type="text/css">* {    padding: 0;    margin: 0;}table {	border-collapse: separate; width =100%;	border: 0;	border-spacing: 0;}tr {	line-height: 18px;}a, td {	font-size: 14px;	font-family: Arial;	color: #333;	word-wrap: break-word;	word-break: normal;	padding: 0;}.title {	font-size: 28px;}.image {	width: auto;	max-width: auto;}.footer {	width: 604px;}.main {}@media screen and (max-device-width: 800px) {	.title {		font-size: 22px !important;	}	.image {		width: auto !important;		max-width: 100% !important;	}	.footer {		width: 100% !important;		max-width: 604px !important	}	..main {		width: 100% !important;		max-width: 604px !important	}}</style><table bgcolor="#FFFFFF" style="padding: 0; margin: 0; border: 0; width: 100%;" align="left">	<tr style="height: 28px"><td>&nbsp;</td></tr>	<tr>		<td align="left" style="padding: 0 20px; margin: 0">			<!--<table bgcolor="#FFFFFF" style="border: 0px; width: 100%; padding-left: 50px; padding-right: 50px;" align="left" class="main">				<tr>					<td align="center" valign="top" >&nbsp;					</td>				</tr>			</table>-->			<table>				<tr>					<td>						<FONT SIZE="4" COLOR="#666666" FACE="arial">When it's time, join the Webex meeting here.</FONT>					</td>				</tr>				<tr style="line-height: 20px;"><td style="height:20px">&nbsp;</td></tr>				<tr>					<td>						<FONT SIZE="2" COLOR="#666666" FACE="arial">Meeting number (access code): 643 457 472</FONT>					</td>				</tr>			</table>			<table>				<tr>					<td>						<FONT SIZE="2" COLOR="#666666" FACE="arial">Host key: 889085</FONT>					</td>				</tr>			</table>			<table><tr><td><FONT SIZE="2" COLOR="#666666" FACE="arial">Meeting password:</FONT></td><td><FONT SIZE="2"  COLOR="#666666" FACE="arial">2tgKWY8VUU8</FONT></td></tr></table>        <table>        	<tr style="line-height: 20px;"><td style="height:20px">&nbsp;</td></tr>			<tr>				<td style="width:auto!important; ">					<table border="0" cellpadding="0" cellspacing="0" style="width:auto;width:auto!important;background-color:#43A942; border:0px solid #43A942; border-radius:25px; min-width:160px!important;">						<tr>							<td align="center" style="padding:10px 36px;"><a href="https://ietf.webex.com/ietf/j.php?MTID=m00937c87933d32f8f66e20a62dd8e0a1" style="color:#FFFFFF; font-size:20px; text-decoration:none;">Join meeting</a></td>						</tr>					</table>				</td>			</tr>		</table> <FONT size="2" COLOR="#FF0000" style="font-family: Arial;"></FONT><FONT SIZE="1" FACE="ARIAL">&nbsp;<BR>&nbsp;<BR></FONT><FONT SIZE="3" COLOR="#666666" FACE="arial">Join by phone</FONT>&nbsp; <BR><FONT SIZE="3" COLOR="#999999" FACE="arial">Tap to call in from a mobile device (attendees only)</FONT>&nbsp; <BR><FONT SIZE="2" COLOR="#333333" FACE="arial"><a href='tel:%2B1-650-479-3208,,*01*643457472%23%23*01*' style='color:#049FD9;  text-decoration:none; '>1-650-479-3208</a>&nbsp;Call-in toll number (US/Canada)</FONT>&nbsp; <BR><BR><table><tr style="line-height: 20px;"><td style="height:20px">&nbsp;</td></tr></table><FONT SIZE="4" FACE="ARIAL"><FONT SIZE="3" COLOR="#999999" FACE="arial">Join from a video system or application</FONT><BR><FONT SIZE="2" COLOR="#333333" FACE="arial">Dial</FONT> <a href="sip:643457472@ietf.webex.com"><FONT SIZE="2" COLOR="#049FD9" FACE="arial">643457472@ietf.webex.com</FONT></a>&nbsp; <BR><FONT COLOR="#333333" FACE="arial" style="font-family: Arial;font-size: 14px;color:#333333;line-height: 24px;">You can also dial 173.243.2.68 and enter your meeting number.</FONT> &nbsp; <BR></FONT>&nbsp; <BR>&nbsp; <BR><table><tr><td  style="color: #000000; font-family: Arial;font-size: 12px; font-weight: bold; line-height: 24px;"><b>Join using Microsoft Lync or Microsoft Skype for Business</b></td></tr><tr style="margin:0px"><td style="color: #333333; font-family: Arial; font-size: 14px; line-height: 24px;">Dial <a href=" sip:643457472.ietf@lync.webex.com"   style="text-decoration:none;color:#049FD9">643457472.ietf@lync.webex.com</a></td></tr></table>			<table style="width: 100%;" align="left" class="main">                <tr style="height: 72px"><td>&nbsp;</td></tr>				<tr>					<td style="height: 24px; color: #000000; font-family:Arial; font-size: 14px; line-height: 24px;">Need help? Go to <a href="http://help.webex.com" style="color:#049FD9; text-decoration:none;">http://help.webex.com</a>					</td>				</tr>                <tr style="height: 44px"><td>&nbsp;</td></tr>			</table>		</td>	</tr></table>
SUMMARY:Server Transition Briefing
PRIORITY:5
CLASS:PUBLIC
END:VEVENT
END:VCALENDAR
