BEGIN:VCALENDAR
VERSION:2.0
CALSCALE:GREGORIAN
PRODID:-//CALENDARSERVER.ORG//NONSGML Version 1//EN
METHOD:REQUEST
BEGIN:VTIMEZONE
TZID:Europe/London
X-LIC-LOCATION:Europe/London
BEGIN:STANDARD
DTSTART:18471201T000000
RDATE;VALUE=DATE-TIME:18471201T000000
TZNAME:S
TZOFFSETFROM:-0115
TZOFFSETTO:+0000
END:STANDARD
BEGIN:DAYLIGHT
DTSTART:19160521T020000
RDATE;VALUE=DATE-TIME:19160521T020000
RDATE;VALUE=DATE-TIME:19170408T020000
RDATE;VALUE=DATE-TIME:19180324T020000
RDATE;VALUE=DATE-TIME:19190330T020000
RDATE;VALUE=DATE-TIME:19200328T020000
RDATE;VALUE=DATE-TIME:19210403T020000
RDATE;VALUE=DATE-TIME:19220326T020000
RDATE;VALUE=DATE-TIME:19230422T020000
RDATE;VALUE=DATE-TIME:19240413T020000
RDATE;VALUE=DATE-TIME:19270410T020000
RDATE;VALUE=DATE-TIME:19300413T020000
RDATE;VALUE=DATE-TIME:19330409T020000
RDATE;VALUE=DATE-TIME:19340422T020000
RDATE;VALUE=DATE-TIME:19350414T020000
RDATE;VALUE=DATE-TIME:19380410T020000
RDATE;VALUE=DATE-TIME:19390416T020000
RDATE;VALUE=DATE-TIME:19400225T020000
RDATE;VALUE=DATE-TIME:19460414T020000
RDATE;VALUE=DATE-TIME:19470316T020000
RDATE;VALUE=DATE-TIME:19480314T020000
RDATE;VALUE=DATE-TIME:19490403T020000
RDATE;VALUE=DATE-TIME:19530419T020000
RDATE;VALUE=DATE-TIME:19540411T020000
RDATE;VALUE=DATE-TIME:19570414T020000
RDATE;VALUE=DATE-TIME:19600410T020000
RDATE;VALUE=DATE-TIME:19680218T020000
TZNAME:BST
TZOFFSETFROM:+0000
TZOFFSETTO:+0100
END:DAYLIGHT
BEGIN:STANDARD
DTSTART:19161001T030000
RDATE;VALUE=DATE-TIME:19161001T030000
RDATE;VALUE=DATE-TIME:19170917T030000
RDATE;VALUE=DATE-TIME:19180930T030000
RDATE;VALUE=DATE-TIME:19190929T030000
RDATE;VALUE=DATE-TIME:19201025T030000
RDATE;VALUE=DATE-TIME:19211003T030000
RDATE;VALUE=DATE-TIME:19221008T030000
RDATE;VALUE=DATE-TIME:19391119T030000
RDATE;VALUE=DATE-TIME:19471102T030000
RDATE;VALUE=DATE-TIME:19481031T030000
RDATE;VALUE=DATE-TIME:19491030T030000
TZNAME:GMT
TZOFFSETFROM:+0100
TZOFFSETTO:+0000
END:STANDARD
BEGIN:STANDARD
DTSTART:19230916T030000
RRULE:FREQ=YEARLY;UNTIL=19240921T020000Z;BYDAY=SU;
 BYMONTHDAY=16,17,18,19,20,21,22;BYMONTH=9
TZNAME:GMT
TZOFFSETFROM:+0100
TZOFFSETTO:+0000
END:STANDARD
BEGIN:DAYLIGHT
DTSTART:19250419T020000
RRULE:FREQ=YEARLY;UNTIL=19260418T020000Z;BYDAY=SU;
 BYMONTHDAY=16,17,18,19,20,21,22;BYMONTH=4
TZNAME:BST
TZOFFSETFROM:+0000
TZOFFSETTO:+0100
END:DAYLIGHT
BEGIN:STANDARD
DTSTART:19251004T030000
RRULE:FREQ=YEARLY;UNTIL=19381002T020000Z;BYDAY=SU;
 BYMONTHDAY=2,3,4,5,6,7,8;BYMONTH=10
TZNAME:GMT
TZOFFSETFROM:+0100
TZOFFSETTO:+0000
END:STANDARD
BEGIN:DAYLIGHT
DTSTART:19280422T020000
RRULE:FREQ=YEARLY;UNTIL=19290421T020000Z;BYDAY=SU;
 BYMONTHDAY=16,17,18,19,20,21,22;BYMONTH=4
TZNAME:BST
TZOFFSETFROM:+0000
TZOFFSETTO:+0100
END:DAYLIGHT
BEGIN:DAYLIGHT
DTSTART:19310419T020000
RRULE:FREQ=YEARLY;UNTIL=19320417T020000Z;BYDAY=SU;
 BYMONTHDAY=16,17,18,19,20,21,22;BYMONTH=4
TZNAME:BST
TZOFFSETFROM:+0000
TZOFFSETTO:+0100
END:DAYLIGHT
BEGIN:DAYLIGHT
DTSTART:19360419T020000
RRULE:FREQ=YEARLY;UNTIL=19370418T020000Z;BYDAY=SU;
 BYMONTHDAY=16,17,18,19,20,21,22;BYMONTH=4
TZNAME:BST
TZOFFSETFROM:+0000
TZOFFSETTO:+0100
END:DAYLIGHT
BEGIN:DAYLIGHT
DTSTART:19410504T020000
RDATE;VALUE=DATE-TIME:19410504T020000
RDATE;VALUE=DATE-TIME:19450402T020000
RDATE;VALUE=DATE-TIME:19470413T020000
TZNAME:BDST
TZOFFSETFROM:+0100
TZOFFSETTO:+0200
END:DAYLIGHT
BEGIN:DAYLIGHT
DTSTART:19410810T030000
RRULE:FREQ=YEARLY;UNTIL=19430815T010000Z;BYDAY=SU;
 BYMONTHDAY=9,10,11,12,13,14,15;BYMONTH=8
TZNAME:BST
TZOFFSETFROM:+0200
TZOFFSETTO:+0100
END:DAYLIGHT
BEGIN:DAYLIGHT
DTSTART:19420405T020000
RRULE:FREQ=YEARLY;UNTIL=19440402T010000Z;BYDAY=SU;
 BYMONTHDAY=2,3,4,5,6,7,8;BYMONTH=4
TZNAME:BDST
TZOFFSETFROM:+0100
TZOFFSETTO:+0200
END:DAYLIGHT
BEGIN:DAYLIGHT
DTSTART:19440917T030000
RDATE;VALUE=DATE-TIME:19440917T030000
RDATE;VALUE=DATE-TIME:19450715T030000
RDATE;VALUE=DATE-TIME:19470810T030000
TZNAME:BST
TZOFFSETFROM:+0200
TZOFFSETTO:+0100
END:DAYLIGHT
BEGIN:STANDARD
DTSTART:19451007T030000
RRULE:FREQ=YEARLY;UNTIL=19461006T020000Z;BYDAY=SU;
 BYMONTHDAY=2,3,4,5,6,7,8;BYMONTH=10
TZNAME:GMT
TZOFFSETFROM:+0100
TZOFFSETTO:+0000
END:STANDARD
BEGIN:DAYLIGHT
DTSTART:19500416T020000
RRULE:FREQ=YEARLY;UNTIL=19520420T020000Z;BYDAY=SU;
 BYMONTHDAY=14,15,16,17,18,19,20;BYMONTH=4
TZNAME:BST
TZOFFSETFROM:+0000
TZOFFSETTO:+0100
END:DAYLIGHT
BEGIN:STANDARD
DTSTART:19501022T030000
RRULE:FREQ=YEARLY;UNTIL=19521026T020000Z;BYDAY=SU;
 BYMONTHDAY=21,22,23,24,25,26,27;BYMONTH=10
TZNAME:GMT
TZOFFSETFROM:+0100
TZOFFSETTO:+0000
END:STANDARD
BEGIN:STANDARD
DTSTART:19531004T030000
RRULE:FREQ=YEARLY;UNTIL=19601002T020000Z;BYDAY=SU;
 BYMONTHDAY=2,3,4,5,6,7,8;BYMONTH=10
TZNAME:GMT
TZOFFSETFROM:+0100
TZOFFSETTO:+0000
END:STANDARD
BEGIN:DAYLIGHT
DTSTART:19550417T020000
RRULE:FREQ=YEARLY;UNTIL=19560422T020000Z;BYDAY=SU;
 BYMONTHDAY=16,17,18,19,20,21,22;BYMONTH=4
TZNAME:BST
TZOFFSETFROM:+0000
TZOFFSETTO:+0100
END:DAYLIGHT
BEGIN:DAYLIGHT
DTSTART:19580420T020000
RRULE:FREQ=YEARLY;UNTIL=19590419T020000Z;BYDAY=SU;
 BYMONTHDAY=16,17,18,19,20,21,22;BYMONTH=4
TZNAME:BST
TZOFFSETFROM:+0000
TZOFFSETTO:+0100
END:DAYLIGHT
BEGIN:DAYLIGHT
DTSTART:19610326T020000
RRULE:FREQ=YEARLY;UNTIL=19630331T020000Z;BYDAY=-1SU;BYMONTH=3
TZNAME:BST
TZOFFSETFROM:+0000
TZOFFSETTO:+0100
END:DAYLIGHT
BEGIN:STANDARD
DTSTART:19611029T030000
RRULE:FREQ=YEARLY;UNTIL=19671029T020000Z;BYDAY=SU;
 BYMONTHDAY=23,24,25,26,27,28,29;BYMONTH=10
TZNAME:GMT
TZOFFSETFROM:+0100
TZOFFSETTO:+0000
END:STANDARD
BEGIN:DAYLIGHT
DTSTART:19640322T020000
RRULE:FREQ=YEARLY;UNTIL=19670319T020000Z;BYDAY=SU;
 BYMONTHDAY=19,20,21,22,23,24,25;BYMONTH=3
TZNAME:BST
TZOFFSETFROM:+0000
TZOFFSETTO:+0100
END:DAYLIGHT
BEGIN:STANDARD
DTSTART:19681027T000000
RDATE;VALUE=DATE-TIME:19681027T000000
TZNAME:BST
TZOFFSETFROM:+0100
TZOFFSETTO:+0100
END:STANDARD
BEGIN:STANDARD
DTSTART:19711031T030000
RDATE;VALUE=DATE-TIME:19711031T030000
TZNAME:S
TZOFFSETFROM:+0100
TZOFFSETTO:+0000
END:STANDARD
BEGIN:DAYLIGHT
DTSTART:19720319T020000
RRULE:FREQ=YEARLY;UNTIL=19800316T020000Z;BYDAY=SU;
 BYMONTHDAY=16,17,18,19,20,21,22;BYMONTH=3
TZNAME:BST
TZOFFSETFROM:+0000
TZOFFSETTO:+0100
END:DAYLIGHT
BEGIN:STANDARD
DTSTART:19721029T030000
RRULE:FREQ=YEARLY;UNTIL=19801026T020000Z;BYDAY=SU;
 BYMONTHDAY=23,24,25,26,27,28,29;BYMONTH=10
TZNAME:GMT
TZOFFSETFROM:+0100
TZOFFSETTO:+0000
END:STANDARD
BEGIN:DAYLIGHT
DTSTART:19810329T010000
RRULE:FREQ=YEARLY;UNTIL=19950326T010000Z;BYDAY=-1SU;BYMONTH=3
TZNAME:BST
TZOFFSETFROM:+0000
TZOFFSETTO:+0100
END:DAYLIGHT
BEGIN:STANDARD
DTSTART:19811025T020000
RRULE:FREQ=YEARLY;UNTIL=19891029T010000Z;BYDAY=SU;
 BYMONTHDAY=23,24,25,26,27,28,29;BYMONTH=10
TZNAME:GMT
TZOFFSETFROM:+0100
TZOFFSETTO:+0000
END:STANDARD
BEGIN:STANDARD
DTSTART:19901028T020000
RRULE:FREQ=YEARLY;UNTIL=19951022T010000Z;BYDAY=4SU;BYMONTH=10
TZNAME:GMT
TZOFFSETFROM:+0100
TZOFFSETTO:+0000
END:STANDARD
BEGIN:STANDARD
DTSTART:19960101T000000
RDATE;VALUE=DATE-TIME:19960101T000000
TZNAME:GMT/BST
TZOFFSETFROM:+0000
TZOFFSETTO:+0000
END:STANDARD
BEGIN:DAYLIGHT
DTSTART:19960331T010000
RRULE:FREQ=YEARLY;BYDAY=-1SU;BYMONTH=3
TZNAME:GMT/BST
TZOFFSETFROM:+0000
TZOFFSETTO:+0100
END:DAYLIGHT
BEGIN:STANDARD
DTSTART:19961027T020000
RRULE:FREQ=YEARLY;BYDAY=-1SU;BYMONTH=10
TZNAME:GMT/BST
TZOFFSETFROM:+0100
TZOFFSETTO:+0000
END:STANDARD
END:VTIMEZONE
BEGIN:VEVENT
ATTENDEE;CN=w3c-policy@ietf.org;CUTYPE=INDIVIDUAL;PARTSTAT=NEEDS-ACTION;
 RSVP=TRUE:mailto:w3c-policy@ietf.org
ATTENDEE;CN=Mark Nottingham;CUTYPE=INDIVIDUAL;PARTSTAT=ACCEPTED;
 EMAIL=mnot@mnot.net:mailto:mnot@mnot.net
DTEND;TZID=Europe/London:20121001T150000
TRANSP:OPAQUE
UID:53C8A69E-6CCB-4E47-8069-B68A1AACC6CF
LOCATION:Teleconference - TBD
URL;VALUE=URI:irc://irc.w3.org:6665/IETF
SEQUENCE:8
SUMMARY:IETF/W3C Liaison Call
DTSTART;TZID=Europe/London:20121001T140000
CREATED:20120926T194319Z
DTSTAMP:20120926T194601Z
ORGANIZER;CN=Mark Nottingham;EMAIL=mnot@mnot.net:mailto:
 2_QTHW4AVDCV3J6QZWHYZGS5R27KOWTMUPCMQZ6SGVFGVDWQS3BMR5XSOWI2SJRGNXCYAMWZJL
 CN2VO@imip.me.com
END:VEVENT
END:VCALENDAR
